BEGIN:VCALENDAR
VERSION:2.0
PRODID:-//AEERVI - ECPv6.2.4//NONSGML v1.0//EN
CALSCALE:GREGORIAN
METHOD:PUBLISH
X-ORIGINAL-URL:https://www.aeervi.es
X-WR-CALDESC:Eventos para AEERVI
REFRESH-INTERVAL;VALUE=DURATION:PT1H
X-Robots-Tag:noindex
X-PUBLISHED-TTL:PT1H
BEGIN:VTIMEZONE
TZID:UTC
BEGIN:STANDARD
TZOFFSETFROM:+0000
TZOFFSETTO:+0000
TZNAME:UTC
DTSTART:20240101T000000
END:STANDARD
END:VTIMEZONE
BEGIN:VEVENT
DTSTART;TZID=UTC:20240322T083000
DTEND;TZID=UTC:20240322T181500
DTSTAMP:20260421T193554
CREATED:20240304T101127Z
LAST-MODIFIED:20240304T101127Z
UID:1388-1711096200-1711131300@www.aeervi.es
SUMMARY:II Jornada de enfermería en radiología vascular intervencionista
DESCRIPTION:El viernes 22 de marzo de 2024 tendrá lugar en el Hospital Germans Trias (Badalona\, Barcelona) la II Jornada de Enfermería en Radiología Vascular Intervencionista que cuentan con el aval de AEERVI y con la colaboración de las empresas Cardiva y Boston Scientific.
URL:https://www.aeervi.es/event/ii-jornada-de-enfermeria-en-radiologia-vascular-intervencionista/
CATEGORIES:Enfermería - Radiología Intervencionista
END:VEVENT
END:VCALENDAR