BEGIN:VCALENDAR
VERSION:2.0
PRODID:-//AEERVI - ECPv6.2.4//NONSGML v1.0//EN
CALSCALE:GREGORIAN
METHOD:PUBLISH
X-ORIGINAL-URL:https://www.aeervi.es
X-WR-CALDESC:Eventos para AEERVI
REFRESH-INTERVAL;VALUE=DURATION:PT1H
X-Robots-Tag:noindex
X-PUBLISHED-TTL:PT1H
BEGIN:VTIMEZONE
TZID:UTC
BEGIN:STANDARD
TZOFFSETFROM:+0000
TZOFFSETTO:+0000
TZNAME:UTC
DTSTART:20240101T000000
END:STANDARD
END:VTIMEZONE
BEGIN:VEVENT
DTSTART;VALUE=DATE:20240125
DTEND;VALUE=DATE:20240127
DTSTAMP:20260421T224533
CREATED:20231023T082344Z
LAST-MODIFIED:20231108T124937Z
UID:1139-1706140800-1706313599@www.aeervi.es
SUMMARY:Curso CENeRI
DESCRIPTION:AEERVI se complace en anunciar el aval científico para el Curso CENeRI que se celebrará durante los días 25 y 26 de Enero de 2024. \nPrecio reducido para los socios de AEERVI (25% de descuento) \nPuedes inscribirte haciendo click AQUÍ\n(Importante marcar la opción de «Socio/a AEERVI» para que se aplique el descuento). \nPuedes visitar la página web haciendo click AQUÍ \nPuedes consultar el programa científico haciendo click AQUÍ  \nSecretaría Técnica (Maite Sanz; maitesanz@academia.cat; Acadèmia de Ciències Mèdiques i de la Salut)
URL:https://www.aeervi.es/event/curso-ceneri/
CATEGORIES:Enfermería - Radiología Intervencionista
ATTACH;FMTTYPE=image/jpeg:https://www.aeervi.es/wp-content/uploads/2023/10/Captura-de-pantalla-2023-10-23-084418.jpg
END:VEVENT
END:VCALENDAR